BEGIN:VCALENDAR
VERSION:2.0
PRODID:-//Sagacity Acupuncture &amp; Chiropractic - ECPv6.15.3//NONSGML v1.0//EN
CALSCALE:GREGORIAN
METHOD:PUBLISH
X-ORIGINAL-URL:https://sagacityacc.com
X-WR-CALDESC:Events for Sagacity Acupuncture &amp; Chiropractic
REFRESH-INTERVAL;VALUE=DURATION:PT1H
X-Robots-Tag:noindex
X-PUBLISHED-TTL:PT1H
BEGIN:VTIMEZONE
TZID:America/Chicago
BEGIN:DAYLIGHT
TZOFFSETFROM:-0600
TZOFFSETTO:-0500
TZNAME:CDT
DTSTART:20260308T080000
END:DAYLIGHT
BEGIN:STANDARD
TZOFFSETFROM:-0500
TZOFFSETTO:-0600
TZNAME:CST
DTSTART:20261101T070000
END:STANDARD
END:VTIMEZONE
BEGIN:VEVENT
DTSTART;TZID=America/Chicago:20260307T100000
DTEND;TZID=America/Chicago:20260307T120000
DTSTAMP:20260423T134022
CREATED:20260121T172230Z
LAST-MODIFIED:20260121T172230Z
UID:585-1772877600-1772884800@sagacityacc.com
SUMMARY:Dementia & Alzheimer's\, a Health and Wealth Discussion
DESCRIPTION:[vc_row][vc_column width=”2/3″][vc_column_text css=”.vc_custom_1548435388096{margin-bottom: 0px !important;}”]\n \nWhat’s covered: \nWe will discuss the Impact Dementia & Alzheimer’s has on a family.  And cover three different perspectives to this awful disease: \n  \n\nFinancial Lens – Planning & Preparation (Kris Owens)\nMedical Lens – Cause & Preventive Care (Aldo D’Aversa)\nCaregiving Lens – Service & Family Support (Keri Owens)\n\n  \nSpeakers:\nKristi L. Owens\, ChFC®\, CAP®\, CRPC®\nSenior Vice President\, Financial Advisor\,\nThe PSO Group\, RBC Wealth Management \nDr. Aldo D’Aversa\, D.C.\, Dipl.O.M.\, L.Ac.\nAcupuncture\, Chiropractic & Integrative Medicine \nKeri Owens\nOwner\, Homewatch Caregivers\nNortheast Garland \n  \nDate: March 7th   Time: 10am – Noon \nLocation : \nCourtyard by Marriott – March 7th  \n1805 E President George Bush Turnpike \nRichardson\, 75074 \n  \nDr. Aldo D’Aversa is physician trained as a chiropractor and a Chinese medicine doctor. This unique education has allowed him to integrate the Western medical diagnosis with the Chinese medicine pattern diagnosis\, allowing for a clearer understanding of disease and health. \n  \nSeating is limited at this event.  Please call 972-233-2929 to reserve your seat. \n  \n. \n\n  \n 
URL:https://sagacityacc.com/event/dementia-alzheimers-a-health-and-wealth-discussion/
LOCATION:Courtyard Marriott\, 1805 E. PBGT\, Richardson\, Texas\, 75074
END:VEVENT
END:VCALENDAR