BEGIN:VCALENDAR
VERSION:2.0
PRODID:-//Sagacity Acupuncture &amp; Chiropractic - ECPv6.15.3//NONSGML v1.0//EN
CALSCALE:GREGORIAN
METHOD:PUBLISH
X-ORIGINAL-URL:https://sagacityacc.com
X-WR-CALDESC:Events for Sagacity Acupuncture &amp; Chiropractic
REFRESH-INTERVAL;VALUE=DURATION:PT1H
X-Robots-Tag:noindex
X-PUBLISHED-TTL:PT1H
BEGIN:VTIMEZONE
TZID:America/Chicago
BEGIN:DAYLIGHT
TZOFFSETFROM:-0600
TZOFFSETTO:-0500
TZNAME:CDT
DTSTART:20250309T080000
END:DAYLIGHT
BEGIN:STANDARD
TZOFFSETFROM:-0500
TZOFFSETTO:-0600
TZNAME:CST
DTSTART:20251102T070000
END:STANDARD
END:VTIMEZONE
BEGIN:VEVENT
DTSTART;TZID=America/Chicago:20250816T110000
DTEND;TZID=America/Chicago:20250816T130000
DTSTAMP:20260424T010511
CREATED:20250623T140856Z
LAST-MODIFIED:20250820T150605Z
UID:570-1755342000-1755349200@sagacityacc.com
SUMMARY:Health and Wellness - Wellness and Vitality
DESCRIPTION:[vc_row][vc_column width=”2/3″][vc_column_text css=”.vc_custom_1548435388096{margin-bottom: 0px !important;}”]\nBeing healthy is not just the absence of disease.  A wellness model includes the issues of sickness and disease but includes the prevention of disease and the maintenance health.  Wealth includes having an abundance of resources; financial\, physical property\, experience and health. \nWe will explore how these to factors directly relate in the wellness model and how one can live a full life now and into retirement. \nThis important discussion will focus on how to reverse the rising trends of disease including: \nDiabetes\, heart disease\, auto immune disorders\, dementia & Alzheimer’s \nJoin us and learn how to reverse these alarming trends by applying prudent lifestyle modifications and anti-aging strategies that will help you regain health \nWe will also have a surprise guest speaker. \nAugust 16th 11:00 – 1:00 pm.   Check in at   10:45. \n  \nLocation : \nHEALTHY COOKING OF TEXAS \n3440 Eldorado Pkwy #4\nMcKinney\, TX 75070 \n. \n  \n  \n. \n  \nDr. Aldo D’Aversa is physician trained as a chiropractor and a Chinese medicine doctor. This unique education has allowed him to integrate the Western medical diagnosis with the Chinese medicine pattern diagnosis\, allowing for a clearer understanding of disease and health. \n. \n  \n. \n\n  \n 
URL:https://sagacityacc.com/event/health-and-wealth-wellness-and-finances/
LOCATION:Healthy Cooking of Texas\, 3440 Eldorado Pkwy\, Unit 4\, McKinney\, Texas\, 75070
END:VEVENT
END:VCALENDAR