BEGIN:VCALENDAR
VERSION:2.0
PRODID:-//Sagacity Acupuncture &amp; Chiropractic - ECPv6.15.3//NONSGML v1.0//EN
CALSCALE:GREGORIAN
METHOD:PUBLISH
X-WR-CALNAME:Sagacity Acupuncture &amp; Chiropractic
X-ORIGINAL-URL:https://sagacityacc.com
X-WR-CALDESC:Events for Sagacity Acupuncture &amp; Chiropractic
REFRESH-INTERVAL;VALUE=DURATION:PT1H
X-Robots-Tag:noindex
X-PUBLISHED-TTL:PT1H
BEGIN:VTIMEZONE
TZID:America/Chicago
BEGIN:DAYLIGHT
TZOFFSETFROM:-0600
TZOFFSETTO:-0500
TZNAME:CDT
DTSTART:20250309T080000
END:DAYLIGHT
BEGIN:STANDARD
TZOFFSETFROM:-0500
TZOFFSETTO:-0600
TZNAME:CST
DTSTART:20251102T070000
END:STANDARD
END:VTIMEZONE
BEGIN:VEVENT
DTSTART;TZID=America/Chicago:20250501T113000
DTEND;TZID=America/Chicago:20250501T120000
DTSTAMP:20260424T054538
CREATED:20250404T203800Z
LAST-MODIFIED:20250404T203800Z
UID:554-1746099000-1746100800@sagacityacc.com
SUMMARY:Restoring Your Health in 2025
DESCRIPTION:[vc_row][vc_column width=”2/3″][vc_column_text css=”.vc_custom_1548435388096{margin-bottom: 0px !important;}”]\n\nThis important discussion will focus on how to reverse the rising trends of disease including: \nDiabetes\, heart disease\, auto immune disorders\, dementia & Alzheimer’s \nJoin us and learn how to reverse these alarming trends by applying prudent lifestyle modifications and anti-aging strategies that will help you regain health \n  \nMay 1st 11:30 am. \n  \nRudy’s Country Store And Bar-B-Q\n9828 Dallas Pkwy \nFrisco\, TX 75034 \n\n\n\n.\n\nDr. Aldo D’Aversa is physician trained as a chiropractor and a Chinese medicine doctor. This unique education has allowed him to integrate the Western medical diagnosis with the Chinese medicine pattern diagnosis\, allowing for a clearer understanding of disease and health.\n.\n\n.\n\n 
URL:https://sagacityacc.com/event/restoring-your-health-in-2025-2/
LOCATION:Rudy’s Barbeque\, 9828 Dallas Pkwy\, Frisco\, TX\, 75003
END:VEVENT
BEGIN:VEVENT
DTSTART;TZID=America/Chicago:20250509T080000
DTEND;TZID=America/Chicago:20250509T140000
DTSTAMP:20260424T054538
CREATED:20250506T192728Z
LAST-MODIFIED:20250506T192842Z
UID:559-1746777600-1746799200@sagacityacc.com
SUMMARY:Brandenburg Health Round Table
DESCRIPTION:[vc_row][vc_column width=”2/3″][vc_column_text css=”.vc_custom_1548435388096{margin-bottom: 0px !important;}”]\n\nWelcome all to learn the origins and practices of Chiropractic and Chinese medicine. \nA question and answer session will be at the end of the lecture. \n  \nMay 9th \nIrving\, TX \n\n\n\n.\n\nDr. Aldo D’Aversa is physician trained as a chiropractor and a Chinese medicine doctor. This unique education has allowed him to integrate the Western medical diagnosis with the Chinese medicine pattern diagnosis\, allowing for a clearer understanding of disease and health.\n.\n\n.\n\n 
URL:https://sagacityacc.com/event/brandenburg-health-round-table/
LOCATION:Texas
END:VEVENT
END:VCALENDAR