BEGIN:VCALENDAR
VERSION:2.0
PRODID:-//Sagacity Acupuncture &amp; Chiropractic - ECPv6.15.3//NONSGML v1.0//EN
CALSCALE:GREGORIAN
METHOD:PUBLISH
X-ORIGINAL-URL:https://sagacityacc.com
X-WR-CALDESC:Events for Sagacity Acupuncture &amp; Chiropractic
REFRESH-INTERVAL;VALUE=DURATION:PT1H
X-Robots-Tag:noindex
X-PUBLISHED-TTL:PT1H
BEGIN:VTIMEZONE
TZID:America/Chicago
BEGIN:DAYLIGHT
TZOFFSETFROM:-0600
TZOFFSETTO:-0500
TZNAME:CDT
DTSTART:20180311T080000
END:DAYLIGHT
BEGIN:STANDARD
TZOFFSETFROM:-0500
TZOFFSETTO:-0600
TZNAME:CST
DTSTART:20181104T070000
END:STANDARD
BEGIN:DAYLIGHT
TZOFFSETFROM:-0600
TZOFFSETTO:-0500
TZNAME:CDT
DTSTART:20190310T080000
END:DAYLIGHT
BEGIN:STANDARD
TZOFFSETFROM:-0500
TZOFFSETTO:-0600
TZNAME:CST
DTSTART:20191103T070000
END:STANDARD
BEGIN:DAYLIGHT
TZOFFSETFROM:-0600
TZOFFSETTO:-0500
TZNAME:CDT
DTSTART:20200308T080000
END:DAYLIGHT
BEGIN:STANDARD
TZOFFSETFROM:-0500
TZOFFSETTO:-0600
TZNAME:CST
DTSTART:20201101T070000
END:STANDARD
BEGIN:DAYLIGHT
TZOFFSETFROM:-0600
TZOFFSETTO:-0500
TZNAME:CDT
DTSTART:20210314T080000
END:DAYLIGHT
BEGIN:STANDARD
TZOFFSETFROM:-0500
TZOFFSETTO:-0600
TZNAME:CST
DTSTART:20211107T070000
END:STANDARD
BEGIN:DAYLIGHT
TZOFFSETFROM:-0600
TZOFFSETTO:-0500
TZNAME:CDT
DTSTART:20220313T080000
END:DAYLIGHT
BEGIN:STANDARD
TZOFFSETFROM:-0500
TZOFFSETTO:-0600
TZNAME:CST
DTSTART:20221106T070000
END:STANDARD
BEGIN:DAYLIGHT
TZOFFSETFROM:-0600
TZOFFSETTO:-0500
TZNAME:CDT
DTSTART:20230312T080000
END:DAYLIGHT
BEGIN:STANDARD
TZOFFSETFROM:-0500
TZOFFSETTO:-0600
TZNAME:CST
DTSTART:20231105T070000
END:STANDARD
BEGIN:DAYLIGHT
TZOFFSETFROM:-0600
TZOFFSETTO:-0500
TZNAME:CDT
DTSTART:20240310T080000
END:DAYLIGHT
BEGIN:STANDARD
TZOFFSETFROM:-0500
TZOFFSETTO:-0600
TZNAME:CST
DTSTART:20241103T070000
END:STANDARD
END:VTIMEZONE
BEGIN:VEVENT
DTSTART;TZID=America/Chicago:20240120T140000
DTEND;TZID=America/Chicago:20240120T153000
DTSTAMP:20260423T142007
CREATED:20231211T211907Z
LAST-MODIFIED:20231211T212236Z
UID:516-1705759200-1705764600@sagacityacc.com
SUMMARY:Bone Broth  Cooking Class
DESCRIPTION:YOU ARE WELCOME TO JOIN ME AT OUR UPCOMING SEMINAR!\nBone Broth Cooking Class \nLearn the Diet & Nutrition principles of Weston A. Price\n  \n \nPresented by: \nDr. Aldo D’Aversa &  Mary Anne Morris\n \nJoin us and learn how to cook bone broth.  In this class we will make bone broth the traditional way\, like 5-star restaurants continue to do today.  We demonstrate the preparation of the vegetables\, bones and spices to make the base stock for soup.  What cookware to use and which utensils make it an easy process.  We cover how and what nutrients are released in this process and the health benefits of bone broth. \nBone broth samples will be provided as well as the full recipe. \n  \nLearn! \n  \n\n How to make bone broth\nWhy it nourishes joints\, skin\, nails & hair\nWhy it can help improve gut & mind issues\n\n  \nWhen: \nSaturday 2:00pm \nJanuary 20\, 2024 \n  \nWhere: \nHealthy Cooking of Texas \n3440 Eldorado Pkwy\, Unit 4  \nMcKinney\, TX 75070 \n  \n The workshop is FREE but please sign-up or call our office (972)233-2929 to reserve your seat.\n \nPlease contact our event host Mary Anne Morris  Tel:214-592-9972 on the day of the event if needing directions. \nHealthycookingoftexas.com  Tel:214-592-9972 \n\n\n\n\n\n\n\n\n\n\n\n\n\n\n\n\n\n\n\n  \n 
URL:https://sagacityacc.com/event/bone-broth-cooking-class/
LOCATION:Healthy Cooking of Texas\, 3440 Eldorado Pkwy\, Unit 4\, McKinney\, Texas\, 75070
END:VEVENT
BEGIN:VEVENT
DTSTART;TZID=America/Chicago:20230829T190000
DTEND;TZID=America/Chicago:20230829T203000
DTSTAMP:20260423T142007
CREATED:20230809T192523Z
LAST-MODIFIED:20230809T192523Z
UID:507-1693335600-1693341000@sagacityacc.com
SUMMARY:What do we eat - Diet & Nutrition principles of Weston A. Price
DESCRIPTION:YOU ARE WELCOME TO JOIN ME AT OUR UPCOMING SEMINAR! \nWhat do we eat\nAfter the 21 day Purification Program\nDiet & Nutrition principles of Weston A. Price\n  \n \nPresented by: \nDr. Aldo D’Aversa & Amy de Vernon M.S\, NTP \n  \nWhy are diseases like cancer\, diabetes\, stroke\, obesity and heart disease at an all time high? What was the diets of healthy non-industrialized peoples throughout the world? How did they have perfect dental health and perfect overall health.  What is a traditional diet? \nLearn! \n  \n\nWhat is a healthy diet\nTo avoid refined and denatured food\nWhat are nutrient-dense foods\nTo enjoy saturated fats; \nWhy to avoid industrial seed oils\nHow to remedy food allergies\n\n  \nWhen: \nTuesday 7:00-8:30pm \nAugust 29\, 2023 \n  \nWhere: \nSagacity Acupuncture  \n& Chiropractic Clinic \n13154 Coit Rd. \nDallas\, TX 75240 \n  \n The workshop is FREE but please sign-up or call to reserve your seat.\n \n\n\n\n\n\n\n\n\n\n\n\n\n\n\n\n\n\n\n\n  \n 
URL:https://sagacityacc.com/event/what-do-we-eat/
LOCATION:TX
END:VEVENT
BEGIN:VEVENT
DTSTART;TZID=America/Chicago:20230722T130000
DTEND;TZID=America/Chicago:20230722T133000
DTSTAMP:20260423T142007
CREATED:20230705T220735Z
LAST-MODIFIED:20230705T220735Z
UID:499-1690030800-1690032600@sagacityacc.com
SUMMARY:Auto-Immune Diseases Have a Gut Connection
DESCRIPTION:[vc_row][vc_column width=”2/3″][vc_column_text css=”.vc_custom_1548435388096{margin-bottom: 0px !important;}”]\nAuto-Immune disorders and Food Intolerances are now common place.  But\, not all gut issues even cause stomach pains. Learn how and why the mind\, immunity and the joints are effected. And discover ways to deal with this worsening problem.\n.\nWe will have a booth to do food evaluations.  Learn what works well for you.\n\n.\n\nDr. Aldo D’Aversa is physician trained as a chiropractor and a Chinese medicine doctor. This unique education has allowed him to integrate the Western medical diagnosis with the Chinese medicine pattern diagnosis\, allowing for a clearer understanding of disease and health.\n.\n\n.\nWellness Expo flyer coupon Click Here!\n 
URL:https://sagacityacc.com/event/auto-immune-gut_connection/
LOCATION:Grapevine Convention Center\, 1209 South Main Street\, Grapevine\, TX\, 76051
END:VEVENT
BEGIN:VEVENT
DTSTART;TZID=America/Chicago:20230401T130000
DTEND;TZID=America/Chicago:20230402T133000
DTSTAMP:20260423T142007
CREATED:20230111T153721Z
LAST-MODIFIED:20230125T214835Z
UID:481-1680354000-1680442200@sagacityacc.com
SUMMARY:Digestive Difficulties
DESCRIPTION:[vc_row][vc_column width=”2/3″][vc_column_text css=”.vc_custom_1548435388096{margin-bottom: 0px !important;}”]\nFood intolerances are now common place. However\, not all gut issues even cause stomach pains. Learn how the mind\, immunity and the joints are effected. Find out why and discover ways to deal with this worsening problem.\n\nWe will have a booth to do food evaluations.  Learn what works well for you.\n\n\n\nDr. Aldo D’Aversa is physician trained as a chiropractor and a Chinese medicine doctor. This unique education has allowed him to integrate the Western medical diagnosis with the Chinese medicine pattern diagnosis\, allowing for a clearer understanding of disease and health.\n\nWellness expo flyer coupon Click Here!\n 
URL:https://sagacityacc.com/event/digestive-difficulties-2/
LOCATION:Grapevine Convention Center\, 1209 South Main Street\, Grapevine\, TX\, 76051
END:VEVENT
BEGIN:VEVENT
DTSTART;TZID=America/Chicago:20221008T130000
DTEND;TZID=America/Chicago:20221008T133000
DTSTAMP:20260423T142007
CREATED:20220819T143218Z
LAST-MODIFIED:20220819T143218Z
UID:465-1665234000-1665235800@sagacityacc.com
SUMMARY:Are you Healthy? Get Tested!
DESCRIPTION:Did you know you can test for food intolerances? In this hands-on seminar Dr. Aldo\nwill test various audience members for food intolerances and you will learn how you\ncan interpret these tests and how to restore health and longevity. You will also\ndiscover how shaking hands\, standing and sitting will show how long you will live. \nWhen:   1:00 PM on Saturday\, October 8\, 2022 \nWhere:  Waxahachie Civic Center\, 2000 Civic Center Ln\, Waxahachie\, 75165 \n  \n  \n 
URL:https://sagacityacc.com/event/are-you-healthy-get-tested-2/
LOCATION:TX
END:VEVENT
BEGIN:VEVENT
DTSTART;TZID=America/Chicago:20220402T130000
DTEND;TZID=America/Chicago:20220402T133000
DTSTAMP:20260423T142007
CREATED:20220207T201440Z
LAST-MODIFIED:20220207T201907Z
UID:446-1648904400-1648906200@sagacityacc.com
SUMMARY:Immune Boosting Tips - colds&flu and chronic auto-immune conditions
DESCRIPTION:Learn strategies on how to build up your immune system. Find out what one vitamin will reduce your health risk more than any other nutrition. Discover how Chinese Medicine remedies support your immune system with the acute and chronic conditions. \n  \nLearn strategies for cold and flu type symptoms \nHear the newest research on prevention of chronic auto immune conditions \n  \nWhen:   1:00 PM on Saturday\, April 2\, 2022 \nWhere:  Grapevine Convention Center • 1209 South Main Street • Grapevine\, TX 76051 \n  \ndraldodaversaaprilgrapevinewellnessexpoflyercoupon
URL:https://sagacityacc.com/event/immune-boosting-tips/
LOCATION:TX
END:VEVENT
BEGIN:VEVENT
DTSTART;TZID=America/Chicago:20210717T130000
DTEND;TZID=America/Chicago:20210717T133000
DTSTAMP:20260423T142007
CREATED:20210623T213319Z
LAST-MODIFIED:20210623T213319Z
UID:442-1626526800-1626528600@sagacityacc.com
SUMMARY:Are you Healthy? Get Tested!
DESCRIPTION:Did you know you can test for food intolerances? In this hands-on seminar Dr. Aldo\nwill test various audience members for food intolerances and you will learn how you\ncan interpret these tests and how to restore health and longevity. You will also\ndiscover how shaking hands\, standing and sitting will show how long you will live. \nWhen:   1:00 PM on Saturday\, July 17\, 2021 \nWhere:  Irving Convention Center • 500 West Las Colinas Blvd 4th floor • Irving\, TX 75039 \n  \ndraldojulyirvingwellnessexpoflyercoupon-2 \n 
URL:https://sagacityacc.com/event/are-you-healthy-get-tested/
LOCATION:TX
END:VEVENT
BEGIN:VEVENT
DTSTART;TZID=America/Chicago:20210521T080000
DTEND;TZID=America/Chicago:20210521T113000
DTSTAMP:20260423T142007
CREATED:20210512T210741Z
LAST-MODIFIED:20210512T210741Z
UID:437-1621584000-1621596600@sagacityacc.com
SUMMARY:Gilbert Lectures
DESCRIPTION:Welcome all to learn the origins and practices of Chiropractic and Chinese medicine. \nThis year a special guest will be joining in to describe his experiences while training in a Korean Hospital. \n 
URL:https://sagacityacc.com/event/gilbert-lectures-3/
LOCATION:TX
END:VEVENT
BEGIN:VEVENT
DTSTART;TZID=America/Chicago:20210520T183000
DTEND;TZID=America/Chicago:20210520T193000
DTSTAMP:20260423T142007
CREATED:20210512T210450Z
LAST-MODIFIED:20210512T210450Z
UID:434-1621535400-1621539000@sagacityacc.com
SUMMARY:To V or not to V
DESCRIPTION:Health cooking presents: \nTo V or not to V\n \nWhen: May 20th 6:30 pm \nWhere:  3440 W. Eldorado Pkwy suite 4 McKinney\, TX 75070 \nRSVP to Mary Anne 469-247-5990 \n \n 
URL:https://sagacityacc.com/event/to-v-or-not-to-v-2/
LOCATION:TX
END:VEVENT
BEGIN:VEVENT
DTSTART;TZID=America/Chicago:20210501T130000
DTEND;TZID=America/Chicago:20210501T133000
DTSTAMP:20260423T142007
CREATED:20210405T014842Z
LAST-MODIFIED:20210405T014842Z
UID:427-1619874000-1619875800@sagacityacc.com
SUMMARY:Heart Disease & Pre-Dementia: Prevention & Care
DESCRIPTION:Learn about mood\, brain function\, memory\, cardiovascular disease (heart attack and stroke) and the common factors that equally affect both conditions. Discover the new blood testing for inflammation markers and specific fats (omega 3 vs. 6\, etc.)\, which provides a guide to know when a therapy and diet is working. Find out which diets and therapies provide prevention and support. \n  \ndraldomaygrapevinewellnessexpoflyercoupon
URL:https://sagacityacc.com/event/heart-disease-pre-dementia-prevention-care/
LOCATION:Grapevine Convention Center\, 1209 South Main Street\, Grapevine\, TX\, 76051
END:VEVENT
BEGIN:VEVENT
DTSTART;TZID=America/Chicago:20210408T183000
DTEND;TZID=America/Chicago:20210408T203000
DTSTAMP:20260423T142007
CREATED:20210405T014044Z
LAST-MODIFIED:20210405T014044Z
UID:423-1617906600-1617913800@sagacityacc.com
SUMMARY:To V or Not to V
DESCRIPTION:To V or not to V\n \nWhen: April 8th 6:30 pm \n\nWhere: Rudy’s country store & barbeque – 9828 Dallas Pkwy\, Frisco\, TX 75033\n \nThe event is free\, Rudy’s asks that you buy a meal.\n \n40 minutes presentation with question and answer
URL:https://sagacityacc.com/event/to-v-or-not-to-v/
LOCATION:Rudy’s Barbeque\, 9828 Dallas Pkwy\, Frisco\, TX\, 75003
END:VEVENT
BEGIN:VEVENT
DTSTART;TZID=America/Chicago:20200711T130000
DTEND;TZID=America/Chicago:20200711T133000
DTSTAMP:20260423T142007
CREATED:20200625T190249Z
LAST-MODIFIED:20200625T191803Z
UID:409-1594472400-1594474200@sagacityacc.com
SUMMARY:The ADHD & Dementia Connection
DESCRIPTION:Learn about mood\, brain function and memory\, as well as the common factors that equally affect both conditions. Discover what are the triggers\, what tests can be done\, and which therapies provide prevention and support.\n  \nLecture links: \nELEVATED BLOOD SUGAR SHRINKS THE BRAIN \n \nAnticholinergic Drug/antipsychotic medications  Exposure leads to a Risk of Dementia by 70%.
URL:https://sagacityacc.com/event/the-adhd-dementia-connection-2/
LOCATION:Irving Convention Centre\, 500 W. Las Colinas Blvd.\, Irving\, TX\, 75039\, United States
END:VEVENT
BEGIN:VEVENT
DTSTART;VALUE=DATE:20200423
DTEND;VALUE=DATE:20200424
DTSTAMP:20260423T142007
CREATED:20200309T202428Z
LAST-MODIFIED:20200309T202428Z
UID:404-1587600000-1587686399@sagacityacc.com
SUMMARY:Gilbert Lectures
DESCRIPTION:Come join us at the informative\, interactive lecture at the Gilbert Academy of learning.
URL:https://sagacityacc.com/event/gilbert-lectures-2/
LOCATION:TX
END:VEVENT
BEGIN:VEVENT
DTSTART;TZID=America/Chicago:20200418T130000
DTEND;TZID=America/Chicago:20200418T133000
DTSTAMP:20260423T142007
CREATED:20200309T202924Z
LAST-MODIFIED:20200309T202924Z
UID:406-1587214800-1587216600@sagacityacc.com
SUMMARY:The ADHD & Dementia Connection
DESCRIPTION:Learn about mood\, brain function and memory\, as well as the common factors that equally affect both conditions. Discover what are the triggers\, what tests can be done\, and which therapies provide prevention and support.
URL:https://sagacityacc.com/event/the-adhd-dementia-connection/
LOCATION:Irving Convention Centre\, 500 W. Las Colinas Blvd.\, Irving\, TX\, 75039\, United States
END:VEVENT
BEGIN:VEVENT
DTSTART;TZID=America/Chicago:20191210T190000
DTEND;TZID=America/Chicago:20191210T193000
DTSTAMP:20260423T142007
CREATED:20191126T174915Z
LAST-MODIFIED:20191126T174915Z
UID:400-1576004400-1576006200@sagacityacc.com
SUMMARY:Cold\, Flu and  Immune Support
DESCRIPTION:YOU ARE WELCOME TO JOIN ME AT OUR UPCOMING SEMINAR! \n  \n \n Learn immune system basics and preventative principles. \nPresented by Aldo D’Aversa D.C.\, Dipl. O.M. \nWhen: \nTuesday 7:00-7:30pm \nDecember 10\, 2019 \n  \nWhere: \nSagacity Acupuncture  \n& Chiropractic Clinic \n13154 Coit Rd. \nDallas\, TX 75240 \n Learn: \nHow can colds\, flu and other microbial issues be reduced or prevented?  What home remedies can reduce or reverse the course of a cold? What has traditional Chinese medicine offered for an “external invasion?” \nJoin us for this informative workshop to find out how to prepare for this winter season \n The workshop is FREE but please sign-up or call to reserve your seat. Attendees who register will receive a free bottle of Immune support! \n\n\n\n\n\n\n\n\n\n\n\n\n\n\n\n\n\n\n\n  \n 
URL:https://sagacityacc.com/event/cold-flu-and-immune-support/
LOCATION:TX
END:VEVENT
BEGIN:VEVENT
DTSTART;VALUE=DATE:20190601
DTEND;VALUE=DATE:20190602
DTSTAMP:20260423T142007
CREATED:20190204T215754Z
LAST-MODIFIED:20190204T215754Z
UID:391-1559347200-1559433599@sagacityacc.com
SUMMARY:Food Intolerances
DESCRIPTION:[vc_row][vc_column width=”2/3″][vc_column_text css=”.vc_custom_1549317039389{margin-bottom: 0px !important;}”]\n\nFood intolerances are now common place. However\, not all gut issues even cause stomach pains. Learn how the mind\, immunity and the joints are effected. Find out why and discover ways to deal with this worsening problem. \n\n\nDr. Aldo D’Aversa is physician trained as a chiropractor and a Chinese medicine doctor. This unique education has allowed him to integrate the Western medical diagnosis with the Chinese medicine pattern diagnosis\, allowing for a clearer understanding of disease and health.\n[/vc_column_text][/vc_column][vc_column width=”1/3″][/vc_column][/vc_row]
URL:https://sagacityacc.com/event/food-intolerances-at-holistic-expo/
LOCATION:Holistic Festival of Life\, 2000 E Spring Creek Pkwy\, Plano\, TX\, 75074\, United States
END:VEVENT
BEGIN:VEVENT
DTSTART;TZID=America/Chicago:20190406T130000
DTEND;TZID=America/Chicago:20190406T133000
DTSTAMP:20260423T142007
CREATED:20190122T214411Z
LAST-MODIFIED:20190125T165333Z
UID:375-1554555600-1554557400@sagacityacc.com
SUMMARY:Digestive Difficulties
DESCRIPTION:[vc_row][vc_column width=”2/3″][vc_column_text css=”.vc_custom_1548435388096{margin-bottom: 0px !important;}”]\nFood intolerances are now common place. However\, not all gut issues even cause stomach pains. Learn how the mind\, immunity and the joints are effected. Find out why and discover ways to deal with this worsening problem.\n\nDr. Aldo D’Aversa is physician trained as a chiropractor and a Chinese medicine doctor. This unique education has allowed him to integrate the Western medical diagnosis with the Chinese medicine pattern diagnosis\, allowing for a clearer understanding of disease and health.\n[/vc_column_text][/vc_column][vc_column width=”1/3″][vc_btn title=”Print Coupon” style=”3d” shape=”square” color=”black” size=”lg” align=”left” link=”url:https%3A%2F%2Fsagacityacc.com%2Fwp-content%2Fuploads%2F2019%2F01%2Fdraldoaprilexpoflyercoupon.pdf||target:%20_blank|”][/vc_column][/vc_row]
URL:https://sagacityacc.com/event/digestive-difficulties/
LOCATION:Addison Conference Centre\, 15650 Addison Rd\, Addison\, TX\, 75001\, United States
END:VEVENT
BEGIN:VEVENT
DTSTART;TZID=America/Chicago:20190301T090000
DTEND;TZID=America/Chicago:20190301T123000
DTSTAMP:20260423T142007
CREATED:20190204T214349Z
LAST-MODIFIED:20190204T214349Z
UID:392-1551430800-1551443400@sagacityacc.com
SUMMARY:Gilbert Lectures
DESCRIPTION:
URL:https://sagacityacc.com/event/gilbert-lectures/
LOCATION:Gilbert\, Irving\, TX\, United States
END:VEVENT
BEGIN:VEVENT
DTSTART;TZID=America/Chicago:20181107T190000
DTEND;TZID=America/Chicago:20181107T200000
DTSTAMP:20260423T142007
CREATED:20181217T201032Z
LAST-MODIFIED:20181217T205954Z
UID:147-1541617200-1541620800@sagacityacc.com
SUMMARY:Dental Health: Learn the proactive possibilities
DESCRIPTION:[vc_row][vc_column width=”1/2″][vc_column_text]Learn: \n\nHow to support healthy teeth and gums\nWhat nutrients build healthy bones\nThe role of infections and other disease beyond the mouth\n\nFree Event! Reservations are not required.[/vc_column_text][/vc_column][vc_column width=”1/2″][vc_btn title=”Download Flyer” style=”3d” shape=”square” color=”black” size=”lg” align=”left” link=”url:%2Fwp-content%2Fuploads%2F2018%2F12%2Fdental-health11-7-2018postersize1.pdf||target:%20_blank|”][/vc_column][/vc_row]
URL:https://sagacityacc.com/event/dental-health-learn-the-proactive-possibilities/
LOCATION:Kathy Carter’s Meetup\, 1600 Carpenter Dr.\, Plano\, TX\, United States
END:VEVENT
END:VCALENDAR